BEGIN:VCALENDAR
VERSION:2.0
PRODID:-//wp-events-plugin.com//7.2.2.1//EN
TZID:America/New_York
X-WR-TIMEZONE:America/New_York
BEGIN:VEVENT
UID:3606@manchestertwp.com
DTSTART;TZID=America/New_York:20231214T190000
DTEND;TZID=America/New_York:20231214T200000
DTSTAMP:20230911T160744Z
URL:https://manchestertwp.com/events/municipal-alliance-meeting-2/
SUMMARY:Municipal Alliance Meeting -  - 14 Dec 23 19:00
DESCRIPTION:All meetings are virtual via zoom.\nPlease contact Barbara Spre
 chman at bsprechman@aol.com for link to zoom meeting.\nAll are welcome t
 o join us!
CATEGORIES:Manchester Events
END:VEVENT
BEGIN:VTIMEZONE
TZID:America/New_York
X-LIC-LOCATION:America/New_York
BEGIN:STANDARD
DTSTART:20231105T010000
TZOFFSETFROM:-0400
TZOFFSETTO:-0500
TZNAME:EST
END:STANDARD
END:VTIMEZONE
END:VCALENDAR