BEGIN:VCALENDAR
VERSION:2.0
PRODID:-//wp-events-plugin.com//7.2.2.1//EN
TZID:America/New_York
X-WR-TIMEZONE:America/New_York
BEGIN:VEVENT
UID:1946@manchestertwp.com
DTSTART;TZID=America/New_York:20180315T180000
DTEND;TZID=America/New_York:20180315T190000
DTSTAMP:20180226T171610Z
URL:https://manchestertwp.com/events/environmental-commission-meeting-4/
SUMMARY:Environmental Commission Meeting - Manchester Townhall - 15 Mar 18 
 18:00
DESCRIPTION:Environmental Commission Webpage\n&nbsp\;\n\nPUBLIC NOTICE IS H
 EREBY GIVEN that the Meetings of the Manchester Township Environmental Com
 mission will be held at 6:00 PM in the Municipal Building\, 1 Colonial Dri
 ve
LOCATION:Manchester Townhall\, 1 Colonial Drive\, Manchester\, NJ\, 08759\,
  United States
GEO:40.007029;-74.2971589
X-APPLE-STRUCTURED-LOCATION;VALUE=URI;X-ADDRESS=1 Colonial Drive\, Manchest
 er\, NJ\, 08759\, United States;X-APPLE-RADIUS=100;X-TITLE=Manchester Town
 hall:geo:40.007029,-74.2971589
END:VEVENT
BEGIN:VTIMEZONE
TZID:America/New_York
X-LIC-LOCATION:America/New_York
BEGIN:DAYLIGHT
DTSTART:20180311T030000
TZOFFSETFROM:-0500
TZOFFSETTO:-0400
TZNAME:EDT
END:DAYLIGHT
END:VTIMEZONE
END:VCALENDAR