BEGIN:VCALENDAR
VERSION:2.0
PRODID:-//wp-events-plugin.com//7.2.2.1//EN
TZID:America/New_York
X-WR-TIMEZONE:America/New_York
BEGIN:VEVENT
UID:1944@manchestertwp.com
DTSTART;TZID=America/New_York:20180215T190000
DTEND;TZID=America/New_York:20180215T200000
DTSTAMP:20180207T151817Z
URL:https://manchestertwp.com/events/environmental-commission-meeting-2/
SUMMARY:Environmental Commission Meeting - Manchester Townhall - 15 Feb 18 
 19:00
DESCRIPTION:Environmental Commission Website\nPlease Take Notice the Regula
 r Meeting of the Manchester Township Environmental Commission are held qu
 arterly in the Court Room\, 1 Colonial Drive\, Manchester\, N.J at 7 p.m.
CATEGORIES:Manchester Events
LOCATION:Manchester Townhall\, 1 Colonial Drive\, Manchester\, NJ\, 08759\,
  United States
GEO:40.007029;-74.2971589
X-APPLE-STRUCTURED-LOCATION;VALUE=URI;X-ADDRESS=1 Colonial Drive\, Manchest
 er\, NJ\, 08759\, United States;X-APPLE-RADIUS=100;X-TITLE=Manchester Town
 hall:geo:40.007029,-74.2971589
END:VEVENT
BEGIN:VTIMEZONE
TZID:America/New_York
X-LIC-LOCATION:America/New_York
BEGIN:STANDARD
DTSTART:20171105T010000
TZOFFSETFROM:-0400
TZOFFSETTO:-0500
TZNAME:EST
END:STANDARD
END:VTIMEZONE
END:VCALENDAR